BEGIN:VCALENDAR
VERSION:2.0
BEGIN:VEVENT
SUMMARY:Не стана от първият път
DESCRIPTION: ГОСТ ПОД ПРИЦЕЛ Калоян Велинов
LOCATION:Бар Епицентър, ул. Кракра 1, Перник
DTSTART:20260401T190000
DTEND:20260401T210000
END:VEVENT
END:VCALENDAR